BEGIN:VCALENDAR
VERSION:2.0
PRODID:-//135.125.167.188//NONSGML kigkonsult.se iCalcreator 2.20//
CALSCALE:GREGORIAN
METHOD:PUBLISH
X-WR-TIMEZONE:Europe/Prague
BEGIN:VEVENT
UID:event722@APARTMÁNY KLENOTNICE - ubytování Klentnice
DTSTAMP:20260421T082746Z
CATEGORIES:Kalendář
DESCRIPTION:obsazeno\nKategorie: Kalendář\nOdkaz: https://apartmanyklenotni
 ce.cz/index.php?option=com_jem&view=event&id=722:obsazeno\n
DTSTART;VALUE=DATE:20260424
DTEND;VALUE=DATE:20260426
LOCATION:Apartmán 1
SUMMARY:obsazeno
URL:https://apartmanyklenotnice.cz/index.php?option=com_jem&view=event&id=7
 22:obsazeno
END:VEVENT
BEGIN:VEVENT
UID:event723@APARTMÁNY KLENOTNICE - ubytování Klentnice
DTSTAMP:20260421T082746Z
CATEGORIES:Kalendář
DESCRIPTION:obsazeno\nKategorie: Kalendář\nOdkaz: https://apartmanyklenotni
 ce.cz/index.php?option=com_jem&view=event&id=723:obsazeno\n
DTSTART;VALUE=DATE:20260424
DTEND;VALUE=DATE:20260426
LOCATION:Apartmán 2 (v podkroví)
SUMMARY:obsazeno
URL:https://apartmanyklenotnice.cz/index.php?option=com_jem&view=event&id=7
 23:obsazeno
END:VEVENT
BEGIN:VEVENT
UID:event728@APARTMÁNY KLENOTNICE - ubytování Klentnice
DTSTAMP:20260421T082746Z
CATEGORIES:Kalendář
DESCRIPTION:obsazeno\nKategorie: Kalendář\nOdkaz: https://apartmanyklenotni
 ce.cz/index.php?option=com_jem&view=event&id=728:obsazeno\n
DTSTART;VALUE=DATE:20260430
DTEND;VALUE=DATE:20260503
LOCATION:Apartmán 1
SUMMARY:obsazeno
URL:https://apartmanyklenotnice.cz/index.php?option=com_jem&view=event&id=7
 28:obsazeno
END:VEVENT
BEGIN:VEVENT
UID:event715@APARTMÁNY KLENOTNICE - ubytování Klentnice
DTSTAMP:20260421T082746Z
CATEGORIES:Kalendář
DESCRIPTION:obsazeno\nKategorie: Kalendář\nOdkaz: https://apartmanyklenotni
 ce.cz/index.php?option=com_jem&view=event&id=715:obsazeno\n
DTSTART;VALUE=DATE:20260507
DTEND;VALUE=DATE:20260510
LOCATION:Apartmán 1
SUMMARY:obsazeno
URL:https://apartmanyklenotnice.cz/index.php?option=com_jem&view=event&id=7
 15:obsazeno
END:VEVENT
BEGIN:VEVENT
UID:event731@APARTMÁNY KLENOTNICE - ubytování Klentnice
DTSTAMP:20260421T082746Z
CATEGORIES:Kalendář
DESCRIPTION:obsazeno\nKategorie: Kalendář\nOdkaz: https://apartmanyklenotni
 ce.cz/index.php?option=com_jem&view=event&id=731:obsazeno\n
DTSTART;VALUE=DATE:20260508
DTEND;VALUE=DATE:20260510
LOCATION:Apartmán 2 (v podkroví)
SUMMARY:obsazeno
URL:https://apartmanyklenotnice.cz/index.php?option=com_jem&view=event&id=7
 31:obsazeno
END:VEVENT
BEGIN:VEVENT
UID:event726@APARTMÁNY KLENOTNICE - ubytování Klentnice
DTSTAMP:20260421T082746Z
CATEGORIES:Kalendář
DESCRIPTION:obsazeno\nKategorie: Kalendář\nOdkaz: https://apartmanyklenotni
 ce.cz/index.php?option=com_jem&view=event&id=726:obsazeno\n
DTSTART;VALUE=DATE:20260515
DTEND;VALUE=DATE:20260517
LOCATION:Apartmán 1
SUMMARY:obsazeno
URL:https://apartmanyklenotnice.cz/index.php?option=com_jem&view=event&id=7
 26:obsazeno
END:VEVENT
BEGIN:VEVENT
UID:event719@APARTMÁNY KLENOTNICE - ubytování Klentnice
DTSTAMP:20260421T082746Z
CATEGORIES:Kalendář
DESCRIPTION:obsazeno\nKategorie: Kalendář\nOdkaz: https://apartmanyklenotni
 ce.cz/index.php?option=com_jem&view=event&id=719:obsazeno\n
DTSTART;VALUE=DATE:20260522
DTEND;VALUE=DATE:20260524
LOCATION:Apartmán 1
SUMMARY:obsazeno
URL:https://apartmanyklenotnice.cz/index.php?option=com_jem&view=event&id=7
 19:obsazeno
END:VEVENT
BEGIN:VEVENT
UID:event720@APARTMÁNY KLENOTNICE - ubytování Klentnice
DTSTAMP:20260421T082746Z
CATEGORIES:Kalendář
DESCRIPTION:obsazeno\nKategorie: Kalendář\nOdkaz: https://apartmanyklenotni
 ce.cz/index.php?option=com_jem&view=event&id=720:obsazeno\n
DTSTART;VALUE=DATE:20260522
DTEND;VALUE=DATE:20260524
LOCATION:Apartmán 2 (v podkroví)
SUMMARY:obsazeno
URL:https://apartmanyklenotnice.cz/index.php?option=com_jem&view=event&id=7
 20:obsazeno
END:VEVENT
BEGIN:VEVENT
UID:event716@APARTMÁNY KLENOTNICE - ubytování Klentnice
DTSTAMP:20260421T082746Z
CATEGORIES:Kalendář
DESCRIPTION:obsazeno\nKategorie: Kalendář\nOdkaz: https://apartmanyklenotni
 ce.cz/index.php?option=com_jem&view=event&id=716:obsazeno\n
DTSTART;VALUE=DATE:20260525
DTEND;VALUE=DATE:20260627
LOCATION:Apartmán 1
SUMMARY:obsazeno
URL:https://apartmanyklenotnice.cz/index.php?option=com_jem&view=event&id=7
 16:obsazeno
END:VEVENT
BEGIN:VEVENT
UID:event717@APARTMÁNY KLENOTNICE - ubytování Klentnice
DTSTAMP:20260421T082746Z
CATEGORIES:Kalendář
DESCRIPTION:obsazeno\nKategorie: Kalendář\nOdkaz: https://apartmanyklenotni
 ce.cz/index.php?option=com_jem&view=event&id=717:obsazeno\n
DTSTART;VALUE=DATE:20260525
DTEND;VALUE=DATE:20260627
LOCATION:Apartmán 2 (v podkroví)
SUMMARY:obsazeno
URL:https://apartmanyklenotnice.cz/index.php?option=com_jem&view=event&id=7
 17:obsazeno
END:VEVENT
END:VCALENDAR
