BEGIN:VCALENDAR
VERSION:2.0
PRODID:-//135.125.167.188//NONSGML kigkonsult.se iCalcreator 2.20//
CALSCALE:GREGORIAN
METHOD:PUBLISH
X-WR-TIMEZONE:Europe/Prague
BEGIN:VEVENT
UID:event160@APARTMÁNY KLENOTNICE - ubytování Klentnice
DTSTAMP:20260420T081244Z
CATEGORIES:Kalendář
DESCRIPTION:obsazeno\nKategorie: Kalendář\nOdkaz: https://apartmanyklenotni
 ce.cz/index.php?option=com_jem&view=event&id=160:obsazeno\n
DTSTART;VALUE=DATE:20171005
DTEND;VALUE=DATE:20171008
LOCATION:Apartmán 2 (v podkroví)
SUMMARY:obsazeno
URL:https://apartmanyklenotnice.cz/index.php?option=com_jem&view=event&id=1
 60:obsazeno
END:VEVENT
END:VCALENDAR
