BEGIN:VCALENDAR
VERSION:2.0
PRODID:-//135.125.167.188//NONSGML kigkonsult.se iCalcreator 2.20//
CALSCALE:GREGORIAN
METHOD:PUBLISH
X-WR-TIMEZONE:Europe/Prague
BEGIN:VEVENT
UID:event715@APARTMÁNY KLENOTNICE - ubytování Klentnice
DTSTAMP:20260421T110540Z
CATEGORIES:Kalendář
DESCRIPTION:obsazeno\nKategorie: Kalendář\nOdkaz: https://apartmanyklenotni
 ce.cz/index.php?option=com_jem&view=event&id=715:obsazeno\n
DTSTART;VALUE=DATE:20260507
DTEND;VALUE=DATE:20260510
LOCATION:Apartmán 1
SUMMARY:obsazeno
URL:https://apartmanyklenotnice.cz/index.php?option=com_jem&view=event&id=7
 15:obsazeno
END:VEVENT
END:VCALENDAR
